BEGIN:VCALENDAR
VERSION:2.0
PRODID:-//https://kennemerland.hcc.nl///NONSGML kigkonsult.se iCalcreator 2.10.15//
METHOD:PUBLISH
BEGIN:VEVENT
UID:20260420T044247CEST-2646su1Kg5@https://kennemerland.hcc.nl/
DTSTAMP:20260420T024247Z
DESCRIPTION:Elke maand komen we bijeen om samen bezig te zijn met onze comp
 uter hobbies.\nOok kunt u terecht met uiteenlopende computervragen.Vrijwil
 ligers staan klaar om u te helpen.\n\nSoftwarehulp (Linux\, mac en Windows
 )\nSmartphone\, Android\nVideobewerking\nTestbank/hardware\nProgrammeren\n
  https://kennemerland.hcc.nl/rss-events/evenement/92-regio-bijeenkomst-ken
 nemerland
DTSTART:20260509T111500Z
DTEND:20260509T141500Z
LOCATION:Wijkcentrum de Wereld (Laan van Berlijn 1\, 2034 SB Haarlem)
SUMMARY:Regio bijeenkomst Kennemerland
URL:https://kennemerland.hcc.nl/rss-events/evenement/92-regio-bijeenkomst-k
 ennemerland
END:VEVENT
BEGIN:VEVENT
UID:20260420T044247CEST-2647ZiukXS@https://kennemerland.hcc.nl/
DTSTAMP:20260420T024247Z
DESCRIPTION:Elke maand komen we bijeen om samen bezig te zijn met onze comp
 uter hobbies.\nOok kunt u terecht met uiteenlopende computervragen.Vrijwil
 ligers staan klaar om u te helpen.\n\nSoftwarehulp (Linux\, mac en Windows
 )\nSmartphone\, Android\nVideobewerking\nTestbank/hardware\nProgrammeren\n
  https://kennemerland.hcc.nl/rss-events/evenement/93-regio-bijeenkomst-ken
 nemerland
DTSTART:20260613T111500Z
DTEND:20260613T141500Z
LOCATION:Wijkcentrum de Wereld (Laan van Berlijn 1\, 2034 SB Haarlem)
SUMMARY:Regio bijeenkomst Kennemerland
URL:https://kennemerland.hcc.nl/rss-events/evenement/93-regio-bijeenkomst-k
 ennemerland
END:VEVENT
BEGIN:VEVENT
UID:20260420T044247CEST-2648CEWz6s@https://kennemerland.hcc.nl/
DTSTAMP:20260420T024247Z
DESCRIPTION:Elke maand komen we bijeen om samen bezig te zijn met onze comp
 uter hobbies.\nOok kunt u terecht met uiteenlopende computervragen.Vrijwil
 ligers staan klaar om u te helpen.\n\nSoftwarehulp (Linux\, mac en Windows
 )\nSmartphone\, Android\nVideobewerking\nTestbank/hardware\nProgrammeren\n
  https://kennemerland.hcc.nl/rss-events/evenement/94-regio-bijeenkomst-ken
 nemerland
DTSTART:20260912T111500Z
DTEND:20260912T141500Z
LOCATION:Wijkcentrum de Wereld (Laan van Berlijn 1\, 2034 SB Haarlem)
SUMMARY:Regio bijeenkomst Kennemerland
URL:https://kennemerland.hcc.nl/rss-events/evenement/94-regio-bijeenkomst-k
 ennemerland
END:VEVENT
BEGIN:VEVENT
UID:20260420T044247CEST-2648KgnX0C@https://kennemerland.hcc.nl/
DTSTAMP:20260420T024247Z
DESCRIPTION:Elke maand komen we bijeen om samen bezig te zijn met onze comp
 uter hobbies.\nOok kunt u terecht met uiteenlopende computervragen.Vrijwil
 ligers staan klaar om u te helpen.\n\nSoftwarehulp (Linux\, mac en Windows
 )\nSmartphone\, Android\nVideobewerking\nTestbank/hardware\nProgrammeren\n
  https://kennemerland.hcc.nl/rss-events/evenement/95-regio-bijeenkomst-ken
 nemerland
DTSTART:20261010T111500Z
DTEND:20261010T141500Z
LOCATION:Wijkcentrum de Wereld (Laan van Berlijn 1\, 2034 SB Haarlem)
SUMMARY:Regio bijeenkomst Kennemerland
URL:https://kennemerland.hcc.nl/rss-events/evenement/95-regio-bijeenkomst-k
 ennemerland
END:VEVENT
BEGIN:VEVENT
UID:20260420T044247CEST-2649H4GdtA@https://kennemerland.hcc.nl/
DTSTAMP:20260420T024247Z
DESCRIPTION:Elke maand komen we bijeen om samen bezig te zijn met onze comp
 uter hobbies.\nOok kunt u terecht met uiteenlopende computervragen.Vrijwil
 ligers staan klaar om u te helpen.\n\nSoftwarehulp (Linux\, mac en Windows
 )\nSmartphone\, Android\nVideobewerking\nTestbank/hardware\nProgrammeren\n
  https://kennemerland.hcc.nl/rss-events/evenement/96-regio-bijeenkomst-ken
 nemerland
DTSTART:20261128T121500Z
DTEND:20261128T151500Z
LOCATION:Wijkcentrum de Wereld (Laan van Berlijn 1\, 2034 SB Haarlem)
SUMMARY:Regio bijeenkomst Kennemerland
URL:https://kennemerland.hcc.nl/rss-events/evenement/96-regio-bijeenkomst-k
 ennemerland
END:VEVENT
BEGIN:VEVENT
UID:20260420T044247CEST-2649voHvak@https://kennemerland.hcc.nl/
DTSTAMP:20260420T024247Z
DESCRIPTION:Elke maand komen we bijeen om samen bezig te zijn met onze comp
 uter hobbies.\nOok kunt u terecht met uiteenlopende computervragen.Vrijwil
 ligers staan klaar om u te helpen.\n\nSoftwarehulp (Linux\, mac en Windows
 )\nSmartphone\, Android\nVideobewerking\nTestbank/hardware\nProgrammeren\n
  https://kennemerland.hcc.nl/rss-events/evenement/97-regio-bijeenkomst-ken
 nemerland
DTSTART:20261212T121500Z
DTEND:20261212T151500Z
LOCATION:Wijkcentrum de Wereld (Laan van Berlijn 1\, 2034 SB Haarlem)
SUMMARY:Regio bijeenkomst Kennemerland
URL:https://kennemerland.hcc.nl/rss-events/evenement/97-regio-bijeenkomst-k
 ennemerland
END:VEVENT
BEGIN:VEVENT
UID:20260420T044247CEST-26506KUrKV@https://kennemerland.hcc.nl/
DTSTAMP:20260420T024247Z
DESCRIPTION:Elke maand komen we bijeen om samen bezig te zijn met onze comp
 uter hobbies.\nOok kunt u terecht met uiteenlopende computervragen.Vrijwil
 ligers staan klaar om u te helpen.\n\nSoftwarehulp (Linux\, mac en Windows
 )\nSmartphone\, Android\nVideobewerking\nTestbank/hardware\nProgrammeren\n
  https://kennemerland.hcc.nl/rss-events/evenement/98-regio-bijeenkomst-ken
 nemerland
DTSTART:20270109T121500Z
DTEND:20270109T151500Z
LOCATION:Wijkcentrum de Wereld (Laan van Berlijn 1\, 2034 SB Haarlem)
SUMMARY:Regio bijeenkomst Kennemerland
URL:https://kennemerland.hcc.nl/rss-events/evenement/98-regio-bijeenkomst-k
 ennemerland
END:VEVENT
BEGIN:VEVENT
UID:20260420T044247CEST-2650Pvw1lV@https://kennemerland.hcc.nl/
DTSTAMP:20260420T024247Z
DESCRIPTION:Elke maand komen we bijeen om samen bezig te zijn met onze comp
 uter hobbies.\nOok kunt u terecht met uiteenlopende computervragen.Vrijwil
 ligers staan klaar om u te helpen.\n\nSoftwarehulp (Linux\, mac en Windows
 )\nSmartphone\, Android\nVideobewerking\nTestbank/hardware\nProgrammeren\n
  https://kennemerland.hcc.nl/rss-events/evenement/99-regio-bijeenkomst-ken
 nemerland
DTSTART:20270213T121500Z
DTEND:20270213T151500Z
LOCATION:Wijkcentrum de Wereld (Laan van Berlijn 1\, 2034 SB Haarlem)
SUMMARY:Regio bijeenkomst Kennemerland
URL:https://kennemerland.hcc.nl/rss-events/evenement/99-regio-bijeenkomst-k
 ennemerland
END:VEVENT
BEGIN:VEVENT
UID:20260420T044247CEST-2651z4M1pw@https://kennemerland.hcc.nl/
DTSTAMP:20260420T024247Z
DESCRIPTION:De snelle opkomst van AI-toepassingen zoals de Chatbot ChatGPT 
 heeft de wereld verbaasd. Hoe werkt deze technologie eigenlijk en wat zijn
  de gevolgen voor onze toekomst? In deze lezing neemt Jan Martin Jansen on
 s mee in de wereld van neurale netwerken en taalmodellen. Ontdek hoe deze 
 systemen getraind worden met enorme hoeveelheden tekst en “leren” om zelf 
 teksten te genereren en dialogen te voeren. Bijzonder is dat er op geen en
 kele wijze kennis over taal in deze systemen is geprogrammeerd. Ze leren u
 itsluitend van voorbeelden. Zelfs de makers van deze taalmodellen stonden 
 versteld over de enorme kracht van ze. We bespreken de kansen én de gevare
 n van AI. Kan AI ons helpen bij het oplossen van belangrijke problemen? Of
  moeten we vrezen voor een toekomst waarin machines de macht overnemen?\nD
 eze lezing zal worden gehouden door dhr. Jan Martin Jansen.Jan Martin Jans
 en studeerde wiskunde en natuurkunde aan de Universiteit van Amsterdam en 
 promoveerde in de informatica aan de Radboud Universiteit. Hij was werkzaa
 m bij Philips Research\, de Noordelijke Hogeschool Leeuwarden en bij het m
 inisterie van defensie: eerst als softwareontwikkelaar en later als univer
 sitair hoofddocent bij de Nederlandse defensie academie. Jan Martin is nu 
 bestuurslid en docent bij de Helderse Volksuniversiteit.\nLocatie: Locael 
 Centraal\; aan de noordzijde van het NS Station Haarlem.Inloop vanaf 10:00
  uurLezing: 10:30 - 12:30HCC leden gratis entree + één koffie/ theeNiet le
 den € 5\,= entree incl. één koffie/ thee\n\n https://kennemerland.hcc.nl/r
 ss-events/evenement/111-lezing-ai-kans-of-bedreiging
DTSTART:20260418T080000Z
DTEND:20260418T103000Z
LOCATION:Locael Centraal naast Station Haarlem (Kennemerplein 6\, 2011 MJ H
 aarlem)
SUMMARY:Lezing: AI 'Kans of Bedreiging'
URL:https://kennemerland.hcc.nl/rss-events/evenement/111-lezing-ai-kans-of-
 bedreiging
END:VEVENT
END:VCALENDAR
